BEGIN:VCALENDAR
VERSION:2.0
PRODID:-//wp-events-plugin.com//7.2.3.1//EN
BEGIN:VEVENT
UID:54@prolocobientina.it
DTSTART;TZID=Europe/Rome:20260425T093000
DTEND;TZID=Europe/Rome:20260425T143000
DTSTAMP:20260417T105159Z
URL:https://prolocobientina.it/eventi/festa-della-liberazione/
SUMMARY:Festa della liberazione
DESCRIPTION:🇮🇹 Il 25 aprile 2026 celebriamo l’81° anniversario del
 la Liberazione d’Italia dal nazifascismo\, una data fondativa della nost
 ra democrazia.\n\nUn appuntamento che quest’anno assume un valore ancora
  più significativo\, intrecciandosi con gli 80 anni dalla nascita della R
 epubblica e dal primo voto delle donne italiane.\nTre ricorrenze che richi
 amano libertà\, diritti e partecipazione.\n\n📌 Ecco il programma delle
  celebrazioni a Bientina\n\n⏰ ore 10\, Torre Civica (Piazzetta Dell’An
 giolo)\n🔹 Accoglienza ospiti\n🔹 Letture Temi della Scuola Secondaria
  di I grado “E. Fermi”\n🔹Mostra “80 anni di democrazia a Bientina
 "\n\n🟢 Tradizionale Corteo con deposizione di corone.\n\n⏰ Ore 13\, P
 arco Le Sughere (Quattro Strade)\n🔹 Pranzo popolare presso il Circolo A
 rci Il Risorgimento\n📞 Prenotazioni: 3471836 171 | 3355360175\n\n🫂 L
 a cittadinanza è invitata a partecipare. Sarà un momento per fare memori
 a e rinnovare\, insieme\, il nostro impegno.
ATTACH;FMTTYPE=image/jpeg:https://prolocobientina.it/wp-content/uploads/20
 26/04/WhatsApp-Image-2026-04-16-at-13.34.39.jpeg
CATEGORIES:Eventi a Bientina
LOCATION:Parco le Sughere\, Quattrostrade\, Bientina\, PI\, Italia
X-APPLE-STRUCTURED-LOCATION;VALUE=URI;X-ADDRESS=Quattrostrade\, Bientina\, 
 PI\, Italia;X-APPLE-RADIUS=100;X-TITLE=Parco le Sughere:geo:0,0
END:VEVENT
BEGIN:VTIMEZONE
TZID:Europe/Rome
X-LIC-LOCATION:Europe/Rome
BEGIN:DAYLIGHT
DTSTART:20260329T030000
TZOFFSETFROM:+0100
TZOFFSETTO:+0200
TZNAME:CEST
END:DAYLIGHT
END:VTIMEZONE
END:VCALENDAR