BEGIN:VCALENDAR
VERSION:2.0
PRODID:-//wp-events-plugin.com//7.2.3.1//EN
BEGIN:VEVENT
UID:56@prolocobientina.it
DTSTART;TZID=Europe/Rome:20260501T070000
DTEND;TZID=Europe/Rome:20260501T120000
DTSTAMP:20260419T093548Z
URL:https://prolocobientina.it/eventi/maratonina-del-1-maggio/
SUMMARY:Maratonina del 1° Maggio
DESCRIPTION:Ritorna la maratonina più attesa dell'anno\n\nVenerdì 1° Mag
 gio\nPartenza dalle 7:30 alle 8:30 con limite massimo di arrivo alle 12:00
 \n\nPercorsi per tutti quanti\, passo libero
ATTACH;FMTTYPE=image/jpeg:https://prolocobientina.it/wp-content/uploads/20
 26/04/WhatsApp-Image-2026-04-17-at-20.52.41.jpeg
LOCATION:Piazza Vittorio Emanuele II\, Piazza Vittorio Emanuele II\, Bienti
 na\, PI\, 56031\, Toscana\, Italia
X-APPLE-STRUCTURED-LOCATION;VALUE=URI;X-ADDRESS=Piazza Vittorio Emanuele II
 \, Bientina\, PI\, 56031\, Toscana\, Italia;X-APPLE-RADIUS=100;X-TITLE=Pia
 zza Vittorio Emanuele II:geo:0,0
END:VEVENT
BEGIN:VTIMEZONE
TZID:Europe/Rome
X-LIC-LOCATION:Europe/Rome
BEGIN:DAYLIGHT
DTSTART:20260329T030000
TZOFFSETFROM:+0100
TZOFFSETTO:+0200
TZNAME:CEST
END:DAYLIGHT
END:VTIMEZONE
END:VCALENDAR