BEGIN:VCALENDAR
VERSION:2.0
PRODID:-//wp-events-plugin.com//7.2.3.1//EN
BEGIN:VEVENT
UID:39@prolocobientina.it
DTSTART;TZID=Europe/Rome:20260329T173000
DTEND;TZID=Europe/Rome:20260329T193000
DTSTAMP:20260306T070350Z
URL:https://prolocobientina.it/eventi/st-jacob-choir/
SUMMARY:ST Jacob Choir
DESCRIPTION:Il St Jacob Choir è presente nel panorama gospel toscano fin d
 al 1991 su iniziativa del suo attuale direttore Massimo Ricci.\n\n&nbsp\;\
 n\nIl 29 Marzo si terrà un concerto a sostegno di Violaciocca associazion
 e pedagogica di San Giuliano Terme presso il Teatro Don Bosco di Bientina\
 , Via XX Settembre 72\, alle ore 17:30\n\n&nbsp\;\n\nEvento a libero appre
 zzamento\n\nPer informazioni e prenotazioni -- Erica - 3395750654
ATTACH;FMTTYPE=image/jpeg:https://prolocobientina.it/wp-content/uploads/20
 26/03/CONCERTO-ST-JACOBS_page-0002.jpg
CATEGORIES:Eventi a Bientina
END:VEVENT
BEGIN:VTIMEZONE
TZID:Europe/Rome
X-LIC-LOCATION:Europe/Rome
BEGIN:DAYLIGHT
DTSTART:20260329T030000
TZOFFSETFROM:+0100
TZOFFSETTO:+0200
TZNAME:CEST
END:DAYLIGHT
END:VTIMEZONE
END:VCALENDAR